BEGIN:VCALENDAR
VERSION:2.0
PRODID:-//Beth Osmer - ECPv6.14.0//NONSGML v1.0//EN
CALSCALE:GREGORIAN
METHOD:PUBLISH
X-WR-CALNAME:Beth Osmer
X-ORIGINAL-URL:https://bethosmer.com
X-WR-CALDESC:Events for Beth Osmer
REFRESH-INTERVAL;VALUE=DURATION:PT1H
X-Robots-Tag:noindex
X-PUBLISHED-TTL:PT1H
BEGIN:VTIMEZONE
TZID:America/Los_Angeles
BEGIN:DAYLIGHT
TZOFFSETFROM:-0800
TZOFFSETTO:-0700
TZNAME:PDT
DTSTART:20260308T100000
END:DAYLIGHT
BEGIN:STANDARD
TZOFFSETFROM:-0700
TZOFFSETTO:-0800
TZNAME:PST
DTSTART:20261101T090000
END:STANDARD
END:VTIMEZONE
BEGIN:VEVENT
DTSTART;TZID=America/Los_Angeles:20260203T160000
DTEND;TZID=America/Los_Angeles:20260203T170000
DTSTAMP:20260419T094623
CREATED:20260127T190501Z
LAST-MODIFIED:20260127T190501Z
UID:3541-1770134400-1770138000@bethosmer.com
SUMMARY:Sage Wisdom Horse Retreat Webinar (February 2026)
DESCRIPTION:
URL:https://bethosmer.com/event/sage-wisdom-horse-retreat-webinar-february-2026/
END:VEVENT
BEGIN:VEVENT
DTSTART;TZID=America/Los_Angeles:20260210T110000
DTEND;TZID=America/Los_Angeles:20260210T120000
DTSTAMP:20260419T094623
CREATED:20260123T205845Z
LAST-MODIFIED:20260123T210414Z
UID:3536-1770721200-1770724800@bethosmer.com
SUMMARY:FREE 2-Day Webinar: How To Easily Connect With Spirit. An Immersive Journey to Meet Your Spirit Guides
DESCRIPTION:How To Easily Connect With Spirit\nA 2 Day Immersive Journey to Meet Your Spirit Guides\nYou’ve cultivated a life of abundance and achievement. Yet despite having everything you thought you wanted\, there’s still that subtle emptiness\, that sense that something essential is missing. \nThat missing piece is spiritual connection. \nThis free 2-day shamanic journey is designed specifically for those who have mastered the material world but recognize they’ve neglected the spiritual dimension of their existence. You’ve created the external foundations of a beautiful life. Now it’s time to complete the picture.
URL:https://bethosmer.com/event/free-2-day-webinar-how-to-easily-connect-with-spirit-an-immersive-journey-to-meet-your-spirit-guides/
END:VEVENT
BEGIN:VEVENT
DTSTART;VALUE=DATE:20260212
DTEND;VALUE=DATE:20260217
DTSTAMP:20260419T094623
CREATED:20250703T195152Z
LAST-MODIFIED:20251111T231418Z
UID:3262-1770854400-1771286399@bethosmer.com
SUMMARY:Wellness Horse Retreat
DESCRIPTION:
URL:https://bethosmer.com/event/healing-horse-retreat-6/
END:VEVENT
BEGIN:VEVENT
DTSTART;TZID=America/Los_Angeles:20260315T120000
DTEND;TZID=America/Los_Angeles:20260315T150000
DTSTAMP:20260419T094623
CREATED:20260301T180303Z
LAST-MODIFIED:20260302T175239Z
UID:3557-1773576000-1773586800@bethosmer.com
SUMMARY:Meet the Herd - Sage Wisdom Barn Event
DESCRIPTION:Intuitive Private Reading with our Horses\nGet Your Ticket: https://spirit.bethosmer.com/barn-event-reading-sage-wisdom-equine-healing-Mar-2026\nMarch 15th from 12:00 pm – 3:00 pm \n  \n 
URL:https://bethosmer.com/event/meet-the-herd-sage-wisdom-barn-event/
END:VEVENT
BEGIN:VEVENT
DTSTART;TZID=America/Los_Angeles:20260319T080000
DTEND;TZID=America/Los_Angeles:20260323T170000
DTSTAMP:20260419T094623
CREATED:20251111T231708Z
LAST-MODIFIED:20251111T231708Z
UID:3513-1773907200-1774285200@bethosmer.com
SUMMARY:Wellness Horse Retreat
DESCRIPTION:
URL:https://bethosmer.com/event/wellness-horse-retreat/
END:VEVENT
BEGIN:VEVENT
DTSTART;TZID=America/Los_Angeles:20260409T080000
DTEND;TZID=America/Los_Angeles:20260413T170000
DTSTAMP:20260419T094623
CREATED:20251111T231855Z
LAST-MODIFIED:20251111T231855Z
UID:3514-1775721600-1776099600@bethosmer.com
SUMMARY:Wellness Horse Retreat
DESCRIPTION:
URL:https://bethosmer.com/event/wellness-horse-retreat-2/
END:VEVENT
BEGIN:VEVENT
DTSTART;TZID=America/Los_Angeles:20260507T080000
DTEND;TZID=America/Los_Angeles:20260511T170000
DTSTAMP:20260419T094623
CREATED:20251111T231955Z
LAST-MODIFIED:20251111T232235Z
UID:3515-1778140800-1778518800@bethosmer.com
SUMMARY:Wellness Horse Retreat
DESCRIPTION:
URL:https://bethosmer.com/event/wellness-horse-retreat-3/
END:VEVENT
END:VCALENDAR